BEGIN:VCALENDAR
VERSION:2.0
PRODID:-//Inland Empire Vital Conditions Network - ECPv6.15.11//NONSGML v1.0//EN
CALSCALE:GREGORIAN
METHOD:PUBLISH
X-WR-CALNAME:Inland Empire Vital Conditions Network
X-ORIGINAL-URL:https://ievitalconditionsnetwork.org
X-WR-CALDESC:Events for Inland Empire Vital Conditions Network
REFRESH-INTERVAL;VALUE=DURATION:PT1H
X-Robots-Tag:noindex
X-PUBLISHED-TTL:PT1H
BEGIN:VTIMEZONE
TZID:America/Los_Angeles
BEGIN:DAYLIGHT
TZOFFSETFROM:-0800
TZOFFSETTO:-0700
TZNAME:PDT
DTSTART:20250309T100000
END:DAYLIGHT
BEGIN:STANDARD
TZOFFSETFROM:-0700
TZOFFSETTO:-0800
TZNAME:PST
DTSTART:20251102T090000
END:STANDARD
BEGIN:DAYLIGHT
TZOFFSETFROM:-0800
TZOFFSETTO:-0700
TZNAME:PDT
DTSTART:20260308T100000
END:DAYLIGHT
BEGIN:STANDARD
TZOFFSETFROM:-0700
TZOFFSETTO:-0800
TZNAME:PST
DTSTART:20261101T090000
END:STANDARD
BEGIN:DAYLIGHT
TZOFFSETFROM:-0800
TZOFFSETTO:-0700
TZNAME:PDT
DTSTART:20270314T100000
END:DAYLIGHT
BEGIN:STANDARD
TZOFFSETFROM:-0700
TZOFFSETTO:-0800
TZNAME:PST
DTSTART:20271107T090000
END:STANDARD
END:VTIMEZONE
BEGIN:VEVENT
DTSTART;TZID=America/Los_Angeles:20260805T080000
DTEND;TZID=America/Los_Angeles:20260805T170000
DTSTAMP:20260421T021329
CREATED:20260120T220907Z
LAST-MODIFIED:20260120T220907Z
UID:10000290-1785916800-1785949200@ievitalconditionsnetwork.org
SUMMARY:August Summit
DESCRIPTION:BCM Cohort Meeting & IEVC Network-Wide Meeting
URL:https://ievitalconditionsnetwork.org/event/august-summit/2026-08-05/
END:VEVENT
BEGIN:VEVENT
DTSTART;TZID=America/Los_Angeles:20260806T080000
DTEND;TZID=America/Los_Angeles:20260806T170000
DTSTAMP:20260421T021329
CREATED:20260120T220907Z
LAST-MODIFIED:20260120T220907Z
UID:10000291-1786003200-1786035600@ievitalconditionsnetwork.org
SUMMARY:August Summit
DESCRIPTION:BCM Cohort Meeting & IEVC Network-Wide Meeting
URL:https://ievitalconditionsnetwork.org/event/august-summit/2026-08-06/
END:VEVENT
END:VCALENDAR